BEGIN:VCALENDAR
VERSION:2.0
PRODID:-//Mental Health Connecticut - ECPv6.15.20//NONSGML v1.0//EN
CALSCALE:GREGORIAN
METHOD:PUBLISH
X-ORIGINAL-URL:https://www.mhconn.org
X-WR-CALDESC:Events for Mental Health Connecticut
REFRESH-INTERVAL;VALUE=DURATION:PT1H
X-Robots-Tag:noindex
X-PUBLISHED-TTL:PT1H
BEGIN:VTIMEZONE
TZID:UTC
BEGIN:STANDARD
TZOFFSETFROM:+0000
TZOFFSETTO:+0000
TZNAME:UTC
DTSTART:20260101T000000
END:STANDARD
END:VTIMEZONE
BEGIN:VEVENT
DTSTART;TZID=UTC:20270203T110000
DTEND;TZID=UTC:20270203T173000
DTSTAMP:20260423T184409
CREATED:20241219T004919Z
LAST-MODIFIED:20250123T180421Z
UID:10004792-1801652400-1801675800@www.mhconn.org
SUMMARY:Art of Wellbeing Studio
DESCRIPTION:Hours of operations vary day-to-day so please click here to check our studio calendar for more details on open studio times and special events.\n\nThe Art of Wellbeing studio is available thanks to support from The Hartford.
URL:https://www.mhconn.org/event/art-of-wellbeing-studio/2027-02-03/
LOCATION:The Family Wellness Center\, 590 Park Street\, Hartford\, CT\, 06106\, United States
CATEGORIES:Art of Wellbeing Studio
ATTACH;FMTTYPE=image/webp:https://www.mhconn.org/wp-content/uploads/2024/09/1-15.webp
END:VEVENT
BEGIN:VEVENT
DTSTART;TZID=UTC:20270204T110000
DTEND;TZID=UTC:20270204T173000
DTSTAMP:20260423T184409
CREATED:20241219T004919Z
LAST-MODIFIED:20250123T180421Z
UID:10004793-1801738800-1801762200@www.mhconn.org
SUMMARY:Art of Wellbeing Studio
DESCRIPTION:Hours of operations vary day-to-day so please click here to check our studio calendar for more details on open studio times and special events.\n\nThe Art of Wellbeing studio is available thanks to support from The Hartford.
URL:https://www.mhconn.org/event/art-of-wellbeing-studio/2027-02-04/
LOCATION:The Family Wellness Center\, 590 Park Street\, Hartford\, CT\, 06106\, United States
CATEGORIES:Art of Wellbeing Studio
ATTACH;FMTTYPE=image/webp:https://www.mhconn.org/wp-content/uploads/2024/09/1-15.webp
END:VEVENT
BEGIN:VEVENT
DTSTART;TZID=UTC:20270205T110000
DTEND;TZID=UTC:20270205T173000
DTSTAMP:20260423T184409
CREATED:20241219T004919Z
LAST-MODIFIED:20250123T180421Z
UID:10004794-1801825200-1801848600@www.mhconn.org
SUMMARY:Art of Wellbeing Studio
DESCRIPTION:Hours of operations vary day-to-day so please click here to check our studio calendar for more details on open studio times and special events.\n\nThe Art of Wellbeing studio is available thanks to support from The Hartford.
URL:https://www.mhconn.org/event/art-of-wellbeing-studio/2027-02-05/
LOCATION:The Family Wellness Center\, 590 Park Street\, Hartford\, CT\, 06106\, United States
CATEGORIES:Art of Wellbeing Studio
ATTACH;FMTTYPE=image/webp:https://www.mhconn.org/wp-content/uploads/2024/09/1-15.webp
END:VEVENT
BEGIN:VEVENT
DTSTART;TZID=UTC:20270210T110000
DTEND;TZID=UTC:20270210T173000
DTSTAMP:20260423T184409
CREATED:20241219T004919Z
LAST-MODIFIED:20250123T180421Z
UID:10004795-1802257200-1802280600@www.mhconn.org
SUMMARY:Art of Wellbeing Studio
DESCRIPTION:Hours of operations vary day-to-day so please click here to check our studio calendar for more details on open studio times and special events.\n\nThe Art of Wellbeing studio is available thanks to support from The Hartford.
URL:https://www.mhconn.org/event/art-of-wellbeing-studio/2027-02-10/
LOCATION:The Family Wellness Center\, 590 Park Street\, Hartford\, CT\, 06106\, United States
CATEGORIES:Art of Wellbeing Studio
ATTACH;FMTTYPE=image/webp:https://www.mhconn.org/wp-content/uploads/2024/09/1-15.webp
END:VEVENT
BEGIN:VEVENT
DTSTART;TZID=UTC:20270211T110000
DTEND;TZID=UTC:20270211T173000
DTSTAMP:20260423T184409
CREATED:20241219T004919Z
LAST-MODIFIED:20250123T180421Z
UID:10004796-1802343600-1802367000@www.mhconn.org
SUMMARY:Art of Wellbeing Studio
DESCRIPTION:Hours of operations vary day-to-day so please click here to check our studio calendar for more details on open studio times and special events.\n\nThe Art of Wellbeing studio is available thanks to support from The Hartford.
URL:https://www.mhconn.org/event/art-of-wellbeing-studio/2027-02-11/
LOCATION:The Family Wellness Center\, 590 Park Street\, Hartford\, CT\, 06106\, United States
CATEGORIES:Art of Wellbeing Studio
ATTACH;FMTTYPE=image/webp:https://www.mhconn.org/wp-content/uploads/2024/09/1-15.webp
END:VEVENT
BEGIN:VEVENT
DTSTART;TZID=UTC:20270212T110000
DTEND;TZID=UTC:20270212T173000
DTSTAMP:20260423T184409
CREATED:20241219T004919Z
LAST-MODIFIED:20250123T180421Z
UID:10004797-1802430000-1802453400@www.mhconn.org
SUMMARY:Art of Wellbeing Studio
DESCRIPTION:Hours of operations vary day-to-day so please click here to check our studio calendar for more details on open studio times and special events.\n\nThe Art of Wellbeing studio is available thanks to support from The Hartford.
URL:https://www.mhconn.org/event/art-of-wellbeing-studio/2027-02-12/
LOCATION:The Family Wellness Center\, 590 Park Street\, Hartford\, CT\, 06106\, United States
CATEGORIES:Art of Wellbeing Studio
ATTACH;FMTTYPE=image/webp:https://www.mhconn.org/wp-content/uploads/2024/09/1-15.webp
END:VEVENT
BEGIN:VEVENT
DTSTART;TZID=UTC:20270217T110000
DTEND;TZID=UTC:20270217T173000
DTSTAMP:20260423T184409
CREATED:20241219T004919Z
LAST-MODIFIED:20250123T180421Z
UID:10004798-1802862000-1802885400@www.mhconn.org
SUMMARY:Art of Wellbeing Studio
DESCRIPTION:Hours of operations vary day-to-day so please click here to check our studio calendar for more details on open studio times and special events.\n\nThe Art of Wellbeing studio is available thanks to support from The Hartford.
URL:https://www.mhconn.org/event/art-of-wellbeing-studio/2027-02-17/
LOCATION:The Family Wellness Center\, 590 Park Street\, Hartford\, CT\, 06106\, United States
CATEGORIES:Art of Wellbeing Studio
ATTACH;FMTTYPE=image/webp:https://www.mhconn.org/wp-content/uploads/2024/09/1-15.webp
END:VEVENT
BEGIN:VEVENT
DTSTART;TZID=UTC:20270218T110000
DTEND;TZID=UTC:20270218T173000
DTSTAMP:20260423T184409
CREATED:20241219T004919Z
LAST-MODIFIED:20250123T180421Z
UID:10004799-1802948400-1802971800@www.mhconn.org
SUMMARY:Art of Wellbeing Studio
DESCRIPTION:Hours of operations vary day-to-day so please click here to check our studio calendar for more details on open studio times and special events.\n\nThe Art of Wellbeing studio is available thanks to support from The Hartford.
URL:https://www.mhconn.org/event/art-of-wellbeing-studio/2027-02-18/
LOCATION:The Family Wellness Center\, 590 Park Street\, Hartford\, CT\, 06106\, United States
CATEGORIES:Art of Wellbeing Studio
ATTACH;FMTTYPE=image/webp:https://www.mhconn.org/wp-content/uploads/2024/09/1-15.webp
END:VEVENT
BEGIN:VEVENT
DTSTART;TZID=UTC:20270219T110000
DTEND;TZID=UTC:20270219T173000
DTSTAMP:20260423T184409
CREATED:20241219T004919Z
LAST-MODIFIED:20250123T180421Z
UID:10004800-1803034800-1803058200@www.mhconn.org
SUMMARY:Art of Wellbeing Studio
DESCRIPTION:Hours of operations vary day-to-day so please click here to check our studio calendar for more details on open studio times and special events.\n\nThe Art of Wellbeing studio is available thanks to support from The Hartford.
URL:https://www.mhconn.org/event/art-of-wellbeing-studio/2027-02-19/
LOCATION:The Family Wellness Center\, 590 Park Street\, Hartford\, CT\, 06106\, United States
CATEGORIES:Art of Wellbeing Studio
ATTACH;FMTTYPE=image/webp:https://www.mhconn.org/wp-content/uploads/2024/09/1-15.webp
END:VEVENT
BEGIN:VEVENT
DTSTART;TZID=UTC:20270224T110000
DTEND;TZID=UTC:20270224T173000
DTSTAMP:20260423T184409
CREATED:20241219T004919Z
LAST-MODIFIED:20250123T180421Z
UID:10004801-1803466800-1803490200@www.mhconn.org
SUMMARY:Art of Wellbeing Studio
DESCRIPTION:Hours of operations vary day-to-day so please click here to check our studio calendar for more details on open studio times and special events.\n\nThe Art of Wellbeing studio is available thanks to support from The Hartford.
URL:https://www.mhconn.org/event/art-of-wellbeing-studio/2027-02-24/
LOCATION:The Family Wellness Center\, 590 Park Street\, Hartford\, CT\, 06106\, United States
CATEGORIES:Art of Wellbeing Studio
ATTACH;FMTTYPE=image/webp:https://www.mhconn.org/wp-content/uploads/2024/09/1-15.webp
END:VEVENT
BEGIN:VEVENT
DTSTART;TZID=UTC:20270225T110000
DTEND;TZID=UTC:20270225T173000
DTSTAMP:20260423T184409
CREATED:20241219T004919Z
LAST-MODIFIED:20250123T180421Z
UID:10004802-1803553200-1803576600@www.mhconn.org
SUMMARY:Art of Wellbeing Studio
DESCRIPTION:Hours of operations vary day-to-day so please click here to check our studio calendar for more details on open studio times and special events.\n\nThe Art of Wellbeing studio is available thanks to support from The Hartford.
URL:https://www.mhconn.org/event/art-of-wellbeing-studio/2027-02-25/
LOCATION:The Family Wellness Center\, 590 Park Street\, Hartford\, CT\, 06106\, United States
CATEGORIES:Art of Wellbeing Studio
ATTACH;FMTTYPE=image/webp:https://www.mhconn.org/wp-content/uploads/2024/09/1-15.webp
END:VEVENT
BEGIN:VEVENT
DTSTART;TZID=UTC:20270226T110000
DTEND;TZID=UTC:20270226T173000
DTSTAMP:20260423T184409
CREATED:20241219T004919Z
LAST-MODIFIED:20250123T180421Z
UID:10004803-1803639600-1803663000@www.mhconn.org
SUMMARY:Art of Wellbeing Studio
DESCRIPTION:Hours of operations vary day-to-day so please click here to check our studio calendar for more details on open studio times and special events.\n\nThe Art of Wellbeing studio is available thanks to support from The Hartford.
URL:https://www.mhconn.org/event/art-of-wellbeing-studio/2027-02-26/
LOCATION:The Family Wellness Center\, 590 Park Street\, Hartford\, CT\, 06106\, United States
CATEGORIES:Art of Wellbeing Studio
ATTACH;FMTTYPE=image/webp:https://www.mhconn.org/wp-content/uploads/2024/09/1-15.webp
END:VEVENT
END:VCALENDAR