BEGIN:VCALENDAR
VERSION:2.0
PRODID:-//Mental Health Connecticut - ECPv6.15.20//NONSGML v1.0//EN
CALSCALE:GREGORIAN
METHOD:PUBLISH
X-WR-CALNAME:Mental Health Connecticut
X-ORIGINAL-URL:https://www.mhconn.org
X-WR-CALDESC:Events for Mental Health Connecticut
REFRESH-INTERVAL;VALUE=DURATION:PT1H
X-Robots-Tag:noindex
X-PUBLISHED-TTL:PT1H
BEGIN:VTIMEZONE
TZID:UTC
BEGIN:STANDARD
TZOFFSETFROM:+0000
TZOFFSETTO:+0000
TZNAME:UTC
DTSTART:20270101T000000
END:STANDARD
END:VTIMEZONE
BEGIN:VEVENT
DTSTART;TZID=UTC:20280503T110000
DTEND;TZID=UTC:20280503T173000
DTSTAMP:20260425T115040
CREATED:20241219T004919Z
LAST-MODIFIED:20250123T180421Z
UID:10004987-1840964400-1840987800@www.mhconn.org
SUMMARY:Art of Wellbeing Studio
DESCRIPTION:Hours of operations vary day-to-day so please click here to check our studio calendar for more details on open studio times and special events.\n\nThe Art of Wellbeing studio is available thanks to support from The Hartford.
URL:https://www.mhconn.org/event/art-of-wellbeing-studio/2028-05-03/
LOCATION:The Family Wellness Center\, 590 Park Street\, Hartford\, CT\, 06106\, United States
CATEGORIES:Art of Wellbeing Studio
ATTACH;FMTTYPE=image/webp:https://www.mhconn.org/wp-content/uploads/2024/09/1-15.webp
END:VEVENT
BEGIN:VEVENT
DTSTART;TZID=UTC:20280504T110000
DTEND;TZID=UTC:20280504T173000
DTSTAMP:20260425T115040
CREATED:20241219T004919Z
LAST-MODIFIED:20250123T180421Z
UID:10004988-1841050800-1841074200@www.mhconn.org
SUMMARY:Art of Wellbeing Studio
DESCRIPTION:Hours of operations vary day-to-day so please click here to check our studio calendar for more details on open studio times and special events.\n\nThe Art of Wellbeing studio is available thanks to support from The Hartford.
URL:https://www.mhconn.org/event/art-of-wellbeing-studio/2028-05-04/
LOCATION:The Family Wellness Center\, 590 Park Street\, Hartford\, CT\, 06106\, United States
CATEGORIES:Art of Wellbeing Studio
ATTACH;FMTTYPE=image/webp:https://www.mhconn.org/wp-content/uploads/2024/09/1-15.webp
END:VEVENT
BEGIN:VEVENT
DTSTART;TZID=UTC:20280505T110000
DTEND;TZID=UTC:20280505T173000
DTSTAMP:20260425T115040
CREATED:20241219T004919Z
LAST-MODIFIED:20250123T180421Z
UID:10004989-1841137200-1841160600@www.mhconn.org
SUMMARY:Art of Wellbeing Studio
DESCRIPTION:Hours of operations vary day-to-day so please click here to check our studio calendar for more details on open studio times and special events.\n\nThe Art of Wellbeing studio is available thanks to support from The Hartford.
URL:https://www.mhconn.org/event/art-of-wellbeing-studio/2028-05-05/
LOCATION:The Family Wellness Center\, 590 Park Street\, Hartford\, CT\, 06106\, United States
CATEGORIES:Art of Wellbeing Studio
ATTACH;FMTTYPE=image/webp:https://www.mhconn.org/wp-content/uploads/2024/09/1-15.webp
END:VEVENT
BEGIN:VEVENT
DTSTART;TZID=UTC:20280510T110000
DTEND;TZID=UTC:20280510T173000
DTSTAMP:20260425T115040
CREATED:20241219T004919Z
LAST-MODIFIED:20250123T180421Z
UID:10004990-1841569200-1841592600@www.mhconn.org
SUMMARY:Art of Wellbeing Studio
DESCRIPTION:Hours of operations vary day-to-day so please click here to check our studio calendar for more details on open studio times and special events.\n\nThe Art of Wellbeing studio is available thanks to support from The Hartford.
URL:https://www.mhconn.org/event/art-of-wellbeing-studio/2028-05-10/
LOCATION:The Family Wellness Center\, 590 Park Street\, Hartford\, CT\, 06106\, United States
CATEGORIES:Art of Wellbeing Studio
ATTACH;FMTTYPE=image/webp:https://www.mhconn.org/wp-content/uploads/2024/09/1-15.webp
END:VEVENT
BEGIN:VEVENT
DTSTART;TZID=UTC:20280511T110000
DTEND;TZID=UTC:20280511T173000
DTSTAMP:20260425T115040
CREATED:20241219T004919Z
LAST-MODIFIED:20250123T180421Z
UID:10004991-1841655600-1841679000@www.mhconn.org
SUMMARY:Art of Wellbeing Studio
DESCRIPTION:Hours of operations vary day-to-day so please click here to check our studio calendar for more details on open studio times and special events.\n\nThe Art of Wellbeing studio is available thanks to support from The Hartford.
URL:https://www.mhconn.org/event/art-of-wellbeing-studio/2028-05-11/
LOCATION:The Family Wellness Center\, 590 Park Street\, Hartford\, CT\, 06106\, United States
CATEGORIES:Art of Wellbeing Studio
ATTACH;FMTTYPE=image/webp:https://www.mhconn.org/wp-content/uploads/2024/09/1-15.webp
END:VEVENT
BEGIN:VEVENT
DTSTART;TZID=UTC:20280512T110000
DTEND;TZID=UTC:20280512T173000
DTSTAMP:20260425T115040
CREATED:20241219T004919Z
LAST-MODIFIED:20250123T180421Z
UID:10004992-1841742000-1841765400@www.mhconn.org
SUMMARY:Art of Wellbeing Studio
DESCRIPTION:Hours of operations vary day-to-day so please click here to check our studio calendar for more details on open studio times and special events.\n\nThe Art of Wellbeing studio is available thanks to support from The Hartford.
URL:https://www.mhconn.org/event/art-of-wellbeing-studio/2028-05-12/
LOCATION:The Family Wellness Center\, 590 Park Street\, Hartford\, CT\, 06106\, United States
CATEGORIES:Art of Wellbeing Studio
ATTACH;FMTTYPE=image/webp:https://www.mhconn.org/wp-content/uploads/2024/09/1-15.webp
END:VEVENT
BEGIN:VEVENT
DTSTART;TZID=UTC:20280517T110000
DTEND;TZID=UTC:20280517T173000
DTSTAMP:20260425T115040
CREATED:20241219T004919Z
LAST-MODIFIED:20250123T180421Z
UID:10004993-1842174000-1842197400@www.mhconn.org
SUMMARY:Art of Wellbeing Studio
DESCRIPTION:Hours of operations vary day-to-day so please click here to check our studio calendar for more details on open studio times and special events.\n\nThe Art of Wellbeing studio is available thanks to support from The Hartford.
URL:https://www.mhconn.org/event/art-of-wellbeing-studio/2028-05-17/
LOCATION:The Family Wellness Center\, 590 Park Street\, Hartford\, CT\, 06106\, United States
CATEGORIES:Art of Wellbeing Studio
ATTACH;FMTTYPE=image/webp:https://www.mhconn.org/wp-content/uploads/2024/09/1-15.webp
END:VEVENT
BEGIN:VEVENT
DTSTART;TZID=UTC:20280518T110000
DTEND;TZID=UTC:20280518T173000
DTSTAMP:20260425T115040
CREATED:20241219T004919Z
LAST-MODIFIED:20250123T180421Z
UID:10004994-1842260400-1842283800@www.mhconn.org
SUMMARY:Art of Wellbeing Studio
DESCRIPTION:Hours of operations vary day-to-day so please click here to check our studio calendar for more details on open studio times and special events.\n\nThe Art of Wellbeing studio is available thanks to support from The Hartford.
URL:https://www.mhconn.org/event/art-of-wellbeing-studio/2028-05-18/
LOCATION:The Family Wellness Center\, 590 Park Street\, Hartford\, CT\, 06106\, United States
CATEGORIES:Art of Wellbeing Studio
ATTACH;FMTTYPE=image/webp:https://www.mhconn.org/wp-content/uploads/2024/09/1-15.webp
END:VEVENT
BEGIN:VEVENT
DTSTART;TZID=UTC:20280519T110000
DTEND;TZID=UTC:20280519T173000
DTSTAMP:20260425T115040
CREATED:20241219T004919Z
LAST-MODIFIED:20250123T180421Z
UID:10004995-1842346800-1842370200@www.mhconn.org
SUMMARY:Art of Wellbeing Studio
DESCRIPTION:Hours of operations vary day-to-day so please click here to check our studio calendar for more details on open studio times and special events.\n\nThe Art of Wellbeing studio is available thanks to support from The Hartford.
URL:https://www.mhconn.org/event/art-of-wellbeing-studio/2028-05-19/
LOCATION:The Family Wellness Center\, 590 Park Street\, Hartford\, CT\, 06106\, United States
CATEGORIES:Art of Wellbeing Studio
ATTACH;FMTTYPE=image/webp:https://www.mhconn.org/wp-content/uploads/2024/09/1-15.webp
END:VEVENT
BEGIN:VEVENT
DTSTART;TZID=UTC:20280524T110000
DTEND;TZID=UTC:20280524T173000
DTSTAMP:20260425T115040
CREATED:20241219T004919Z
LAST-MODIFIED:20250123T180421Z
UID:10004996-1842778800-1842802200@www.mhconn.org
SUMMARY:Art of Wellbeing Studio
DESCRIPTION:Hours of operations vary day-to-day so please click here to check our studio calendar for more details on open studio times and special events.\n\nThe Art of Wellbeing studio is available thanks to support from The Hartford.
URL:https://www.mhconn.org/event/art-of-wellbeing-studio/2028-05-24/
LOCATION:The Family Wellness Center\, 590 Park Street\, Hartford\, CT\, 06106\, United States
CATEGORIES:Art of Wellbeing Studio
ATTACH;FMTTYPE=image/webp:https://www.mhconn.org/wp-content/uploads/2024/09/1-15.webp
END:VEVENT
BEGIN:VEVENT
DTSTART;TZID=UTC:20280525T110000
DTEND;TZID=UTC:20280525T173000
DTSTAMP:20260425T115040
CREATED:20241219T004919Z
LAST-MODIFIED:20250123T180421Z
UID:10004997-1842865200-1842888600@www.mhconn.org
SUMMARY:Art of Wellbeing Studio
DESCRIPTION:Hours of operations vary day-to-day so please click here to check our studio calendar for more details on open studio times and special events.\n\nThe Art of Wellbeing studio is available thanks to support from The Hartford.
URL:https://www.mhconn.org/event/art-of-wellbeing-studio/2028-05-25/
LOCATION:The Family Wellness Center\, 590 Park Street\, Hartford\, CT\, 06106\, United States
CATEGORIES:Art of Wellbeing Studio
ATTACH;FMTTYPE=image/webp:https://www.mhconn.org/wp-content/uploads/2024/09/1-15.webp
END:VEVENT
BEGIN:VEVENT
DTSTART;TZID=UTC:20280526T110000
DTEND;TZID=UTC:20280526T173000
DTSTAMP:20260425T115040
CREATED:20241219T004919Z
LAST-MODIFIED:20250123T180421Z
UID:10004998-1842951600-1842975000@www.mhconn.org
SUMMARY:Art of Wellbeing Studio
DESCRIPTION:Hours of operations vary day-to-day so please click here to check our studio calendar for more details on open studio times and special events.\n\nThe Art of Wellbeing studio is available thanks to support from The Hartford.
URL:https://www.mhconn.org/event/art-of-wellbeing-studio/2028-05-26/
LOCATION:The Family Wellness Center\, 590 Park Street\, Hartford\, CT\, 06106\, United States
CATEGORIES:Art of Wellbeing Studio
ATTACH;FMTTYPE=image/webp:https://www.mhconn.org/wp-content/uploads/2024/09/1-15.webp
END:VEVENT
BEGIN:VEVENT
DTSTART;TZID=UTC:20280531T110000
DTEND;TZID=UTC:20280531T173000
DTSTAMP:20260425T115040
CREATED:20241219T004919Z
LAST-MODIFIED:20250123T180421Z
UID:10004999-1843383600-1843407000@www.mhconn.org
SUMMARY:Art of Wellbeing Studio
DESCRIPTION:Hours of operations vary day-to-day so please click here to check our studio calendar for more details on open studio times and special events.\n\nThe Art of Wellbeing studio is available thanks to support from The Hartford.
URL:https://www.mhconn.org/event/art-of-wellbeing-studio/2028-05-31/
LOCATION:The Family Wellness Center\, 590 Park Street\, Hartford\, CT\, 06106\, United States
CATEGORIES:Art of Wellbeing Studio
ATTACH;FMTTYPE=image/webp:https://www.mhconn.org/wp-content/uploads/2024/09/1-15.webp
END:VEVENT
END:VCALENDAR